BEGIN:VCALENDAR
VERSION:2.0
PRODID:-//Queen of Prefab - ECPv6.15.16//NONSGML v1.0//EN
CALSCALE:GREGORIAN
METHOD:PUBLISH
X-ORIGINAL-URL:https://queenofprefab.com
X-WR-CALDESC:Events for Queen of Prefab
REFRESH-INTERVAL;VALUE=DURATION:PT1H
X-Robots-Tag:noindex
X-PUBLISHED-TTL:PT1H
BEGIN:VTIMEZONE
TZID:Pacific/Auckland
BEGIN:STANDARD
TZOFFSETFROM:+1300
TZOFFSETTO:+1200
TZNAME:NZST
DTSTART:20220402T140000
END:STANDARD
BEGIN:DAYLIGHT
TZOFFSETFROM:+1200
TZOFFSETTO:+1300
TZNAME:NZDT
DTSTART:20220924T140000
END:DAYLIGHT
BEGIN:STANDARD
TZOFFSETFROM:+1300
TZOFFSETTO:+1200
TZNAME:NZST
DTSTART:20230401T140000
END:STANDARD
BEGIN:DAYLIGHT
TZOFFSETFROM:+1200
TZOFFSETTO:+1300
TZNAME:NZDT
DTSTART:20230923T140000
END:DAYLIGHT
BEGIN:STANDARD
TZOFFSETFROM:+1300
TZOFFSETTO:+1200
TZNAME:NZST
DTSTART:20240406T140000
END:STANDARD
BEGIN:DAYLIGHT
TZOFFSETFROM:+1200
TZOFFSETTO:+1300
TZNAME:NZDT
DTSTART:20240928T140000
END:DAYLIGHT
END:VTIMEZONE
BEGIN:VEVENT
DTSTART;TZID=Pacific/Auckland:20230323T090000
DTEND;TZID=Pacific/Auckland:20230323T170000
DTSTAMP:20260420T114719
CREATED:20230309T164044Z
LAST-MODIFIED:20230320T155301Z
UID:10000003-1679562000-1679590800@queenofprefab.com
SUMMARY:BIMinNZ - Building our Digital Community
DESCRIPTION:Building our Digital Community is a one-day conference on Building Information Modelling (BIM) representing an industry partnership between the New Zealand Institute of Building (NZIOB) and the BIM Acceleration Committee (BAC). \n\n\n                \n                        \n                            Request a Meeting with Amy During this Event\n                             \n                        \n                        EmailThis field is for validation purposes and should be left unchanged.Name\n                            \n                            \n                                                    \n                                                    First\n                                                \n                            \n                            \n                                                    \n                                                    Last\n                                                \n                            \n                        Email\n                            \n                        PhoneCompanyBy submitting this form you agree to our privacy policy. We treat your data with the utmost care and do not disclose your details to third parties.
URL:https://queenofprefab.com/event/bim-nz-building-digital-community/
LOCATION:Te Papa\, 5 Cable Street\, Wellington\, Wellington\, 6011\, New Zealand
ATTACH;FMTTYPE=image/jpeg:https://queenofprefab.com/wp-content/uploads/2023/03/2023.02_qop-bim-in-nz-building-digital-community-event-march-2023-image.jpg
ORGANIZER;CN="BIM in NZ":MAILTO:info@biminnz.co.nz
END:VEVENT
END:VCALENDAR