BEGIN:VCALENDAR
VERSION:2.0
PRODID:-//Queen of Prefab - ECPv6.15.16//NONSGML v1.0//EN
CALSCALE:GREGORIAN
METHOD:PUBLISH
X-ORIGINAL-URL:https://queenofprefab.com
X-WR-CALDESC:Events for Queen of Prefab
REFRESH-INTERVAL;VALUE=DURATION:PT1H
X-Robots-Tag:noindex
X-PUBLISHED-TTL:PT1H
BEGIN:VTIMEZONE
TZID:America/New_York
BEGIN:DAYLIGHT
TZOFFSETFROM:-0500
TZOFFSETTO:-0400
TZNAME:EDT
DTSTART:20210314T070000
END:DAYLIGHT
BEGIN:STANDARD
TZOFFSETFROM:-0400
TZOFFSETTO:-0500
TZNAME:EST
DTSTART:20211107T060000
END:STANDARD
BEGIN:DAYLIGHT
TZOFFSETFROM:-0500
TZOFFSETTO:-0400
TZNAME:EDT
DTSTART:20220313T070000
END:DAYLIGHT
BEGIN:STANDARD
TZOFFSETFROM:-0400
TZOFFSETTO:-0500
TZNAME:EST
DTSTART:20221106T060000
END:STANDARD
BEGIN:DAYLIGHT
TZOFFSETFROM:-0500
TZOFFSETTO:-0400
TZNAME:EDT
DTSTART:20230312T070000
END:DAYLIGHT
BEGIN:STANDARD
TZOFFSETFROM:-0400
TZOFFSETTO:-0500
TZNAME:EST
DTSTART:20231105T060000
END:STANDARD
END:VTIMEZONE
BEGIN:VEVENT
DTSTART;TZID=America/New_York:20220512T090000
DTEND;TZID=America/New_York:20220512T113000
DTSTAMP:20260421T090609
CREATED:20230322T152932Z
LAST-MODIFIED:20230322T152932Z
UID:10000020-1652346000-1652355000@queenofprefab.com
SUMMARY:"Is Data\, Smart Tech & Human Behavior the answer to the Climate Crisis?"
DESCRIPTION:Is Smart Technology the Solution to Climate Crisis? \n​Calls for sustainability in the face of the global climate crisis are greater than ever. One path forward emerges via data and technology. Data can track human behaviour giving us an opportunity to utilise it in a way that makes our processes smarter and actions more impactful. \nMichelle Wallace moderates a discussion for “Is Smart Technology the solution to the Climate Crisis?” Our panel examines the devices\, tools\, platforms and common sense behaviours needed to give us the greatest chance of reversing the decline in the health of our planet. \nOur guests include: \n\nAmy Marks\, Autodesk\nAlan Keogh\, Coolplanet\nGarry Connolly\, Host in Ireland\n\ngravityform id=”3″ title=”true”]
URL:https://queenofprefab.com/event/is-data-smart-tech-human-behavior-answer-climate-crisis/
LOCATION:Host in Ireland\, Ireland
ATTACH;FMTTYPE=image/png:https://queenofprefab.com/wp-content/uploads/2023/03/Untitled-design-4-1.png
ORGANIZER;CN="Host in Ireland":MAILTO:marketing@hostinireland.com
END:VEVENT
END:VCALENDAR