BEGIN:VCALENDAR
VERSION:2.0
PRODID:-//Queen of Prefab - ECPv6.15.16//NONSGML v1.0//EN
CALSCALE:GREGORIAN
METHOD:PUBLISH
X-ORIGINAL-URL:https://queenofprefab.com
X-WR-CALDESC:Events for Queen of Prefab
REFRESH-INTERVAL;VALUE=DURATION:PT1H
X-Robots-Tag:noindex
X-PUBLISHED-TTL:PT1H
BEGIN:VTIMEZONE
TZID:America/Chicago
BEGIN:DAYLIGHT
TZOFFSETFROM:-0600
TZOFFSETTO:-0500
TZNAME:CDT
DTSTART:20210314T080000
END:DAYLIGHT
BEGIN:STANDARD
TZOFFSETFROM:-0500
TZOFFSETTO:-0600
TZNAME:CST
DTSTART:20211107T070000
END:STANDARD
BEGIN:DAYLIGHT
TZOFFSETFROM:-0600
TZOFFSETTO:-0500
TZNAME:CDT
DTSTART:20220313T080000
END:DAYLIGHT
BEGIN:STANDARD
TZOFFSETFROM:-0500
TZOFFSETTO:-0600
TZNAME:CST
DTSTART:20221106T070000
END:STANDARD
BEGIN:DAYLIGHT
TZOFFSETFROM:-0600
TZOFFSETTO:-0500
TZNAME:CDT
DTSTART:20230312T080000
END:DAYLIGHT
BEGIN:STANDARD
TZOFFSETFROM:-0500
TZOFFSETTO:-0600
TZNAME:CST
DTSTART:20231105T070000
END:STANDARD
END:VTIMEZONE
BEGIN:VEVENT
DTSTART;TZID=America/Chicago:20221018T090000
DTEND;TZID=America/Chicago:20221021T170000
DTSTAMP:20260421T115510
CREATED:20230309T220656Z
LAST-MODIFIED:20230309T220656Z
UID:10000009-1666083600-1666371600@queenofprefab.com
SUMMARY:LCI  Congress 2022 - "Unpanel"
DESCRIPTION:Lean Construction Institute – 24th Congress  \nUnconference 3 What’s Next? “unpanel” 4:00-4:45 p.m. on Wednesday\, October 19th. \nIntent: Actively engage attendees in ideating what is next for Lean in construction over the next 3-5 years.  The “Unpanel” will be moderated by Hal Macomber.  Each panelist will be asked to speak for 5 minutes.  In the “Unpanel” format\, attendees are invited to join the panel.  When one new speaker joins the panel\, one of the original speakers leave. \n\n\n\n                \n                        \n                            Request a Meeting with Amy During this Event\n                             \n                        \n                        LinkedInThis field is for validation purposes and should be left unchanged.Name\n                            \n                            \n                                                    \n                                                    First\n                                                \n                            \n                            \n                                                    \n                                                    Last\n                                                \n                            \n                        Email\n                            \n                        PhoneCompanyBy submitting this form you agree to our privacy policy. We treat your data with the utmost care and do not disclose your details to third parties.
URL:https://queenofprefab.com/event/lci-congress-2022-unpanel/
LOCATION:Hilton New Orleans Riverside\, Two Poydras St\,\, New Orleans\, LA\, 70130\, United States
ATTACH;FMTTYPE=image/png:https://queenofprefab.com/wp-content/uploads/2023/03/Untitled-design-5.png
END:VEVENT
END:VCALENDAR