BEGIN:VCALENDAR
VERSION:2.0
PRODID:-//Queen of Prefab - ECPv6.15.16//NONSGML v1.0//EN
CALSCALE:GREGORIAN
METHOD:PUBLISH
X-WR-CALNAME:Queen of Prefab
X-ORIGINAL-URL:https://queenofprefab.com
X-WR-CALDESC:Events for Queen of Prefab
REFRESH-INTERVAL;VALUE=DURATION:PT1H
X-Robots-Tag:noindex
X-PUBLISHED-TTL:PT1H
BEGIN:VTIMEZONE
TZID:America/Chicago
BEGIN:DAYLIGHT
TZOFFSETFROM:-0600
TZOFFSETTO:-0500
TZNAME:CDT
DTSTART:20210314T080000
END:DAYLIGHT
BEGIN:STANDARD
TZOFFSETFROM:-0500
TZOFFSETTO:-0600
TZNAME:CST
DTSTART:20211107T070000
END:STANDARD
BEGIN:DAYLIGHT
TZOFFSETFROM:-0600
TZOFFSETTO:-0500
TZNAME:CDT
DTSTART:20220313T080000
END:DAYLIGHT
BEGIN:STANDARD
TZOFFSETFROM:-0500
TZOFFSETTO:-0600
TZNAME:CST
DTSTART:20221106T070000
END:STANDARD
BEGIN:DAYLIGHT
TZOFFSETFROM:-0600
TZOFFSETTO:-0500
TZNAME:CDT
DTSTART:20230312T080000
END:DAYLIGHT
BEGIN:STANDARD
TZOFFSETFROM:-0500
TZOFFSETTO:-0600
TZNAME:CST
DTSTART:20231105T070000
END:STANDARD
END:VTIMEZONE
BEGIN:VEVENT
DTSTART;TZID=America/Chicago:20221129T090000
DTEND;TZID=America/Chicago:20221201T170000
DTSTAMP:20260420T103105
CREATED:20230309T202614Z
LAST-MODIFIED:20230310T224744Z
UID:10000007-1669712400-1669914000@queenofprefab.com
SUMMARY:Advancing Data Center Construction 2022
DESCRIPTION:Drive Productivity\, Efficiency & Collaboration to Build High-Quality\, Sustainable Data Centers in Record Time\n\n\n\n\n\nThe demand for data centers is reaching record highs\, and with net-zero and ESG targets front of mind for clients\, additional pressure is mounting to reduce energy consumption and improve the sustainability of data centers. \nThis\, combined with escalating supply chain disruption and market volatility\, means project stakeholders must collaborate more than ever to find new and innovative ways to improve productivity and meet rapid deployment demands. \nTherefore\, Advancing Data Center Construction returned for the 3rd time in 2022 to unite hundreds of pioneering clients\, contractors\, designers and modular firms to address the most pressing challenges and latest innovations. From overcoming supply chain disruption and alleviating labor shortage pressures\, to discovering how liquid cooling and low-carbon materials will help you meet your sustainability goals\, this was your opportunity to connect with and learn from the pioneers at the forefront of data center construction today. \n\n\n\n\n\n                \n                        \n                            Request a Meeting with Amy During this Event\n                             \n                        \n                        NameThis field is for validation purposes and should be left unchanged.Name\n                            \n                            \n                                                    \n                                                    First\n                                                \n                            \n                            \n                                                    \n                                                    Last\n                                                \n                            \n                        Email\n                            \n                        PhoneCompanyBy submitting this form you agree to our privacy policy. We treat your data with the utmost care and do not disclose your details to third parties.
URL:https://queenofprefab.com/event/advancing-data-center-construction-2022/
LOCATION:Sheraton Dallas\, 400 Olive St\, Dallas\, TX\, 75201
ATTACH;FMTTYPE=image/png:https://queenofprefab.com/wp-content/uploads/2023/03/Untitled-design-3.png
END:VEVENT
END:VCALENDAR