BEGIN:VCALENDAR
VERSION:2.0
PRODID:-//Queen of Prefab - ECPv6.15.16//NONSGML v1.0//EN
CALSCALE:GREGORIAN
METHOD:PUBLISH
X-WR-CALNAME:Queen of Prefab
X-ORIGINAL-URL:https://queenofprefab.com
X-WR-CALDESC:Events for Queen of Prefab
REFRESH-INTERVAL;VALUE=DURATION:PT1H
X-Robots-Tag:noindex
X-PUBLISHED-TTL:PT1H
BEGIN:VTIMEZONE
TZID:America/Denver
BEGIN:DAYLIGHT
TZOFFSETFROM:-0700
TZOFFSETTO:-0600
TZNAME:MDT
DTSTART:20210314T090000
END:DAYLIGHT
BEGIN:STANDARD
TZOFFSETFROM:-0600
TZOFFSETTO:-0700
TZNAME:MST
DTSTART:20211107T080000
END:STANDARD
BEGIN:DAYLIGHT
TZOFFSETFROM:-0700
TZOFFSETTO:-0600
TZNAME:MDT
DTSTART:20220313T090000
END:DAYLIGHT
BEGIN:STANDARD
TZOFFSETFROM:-0600
TZOFFSETTO:-0700
TZNAME:MST
DTSTART:20221106T080000
END:STANDARD
BEGIN:DAYLIGHT
TZOFFSETFROM:-0700
TZOFFSETTO:-0600
TZNAME:MDT
DTSTART:20230312T090000
END:DAYLIGHT
BEGIN:STANDARD
TZOFFSETFROM:-0600
TZOFFSETTO:-0700
TZNAME:MST
DTSTART:20231105T080000
END:STANDARD
END:VTIMEZONE
BEGIN:VEVENT
DTSTART;TZID=America/Denver:20220510T083000
DTEND;TZID=America/Denver:20220510T100000
DTSTAMP:20260421T105647
CREATED:20230324T204453Z
LAST-MODIFIED:20230324T204453Z
UID:10000030-1652171400-1652176800@queenofprefab.com
SUMMARY:ClarkDietrich National Conference - Amy Marks Keynote
DESCRIPTION:Amy Marks will deliver the keynote at the ClarkDietrich National Conference in Nashville\, TN. \n\n\n                \n                        \n                            Request a Meeting with Amy During this Event\n                             \n                        \n                        InstagramThis field is for validation purposes and should be left unchanged.Name\n                            \n                            \n                                                    \n                                                    First\n                                                \n                            \n                            \n                                                    \n                                                    Last\n                                                \n                            \n                        Email\n                            \n                        PhoneCompanyBy submitting this form you agree to our privacy policy. We treat your data with the utmost care and do not disclose your details to third parties.
URL:https://queenofprefab.com/event/clark-dietrich-national-conference-amy-marks-keynote/
LOCATION:Sheraton Grand Nashville Downtown\, 623 Union St\, Nashville\, TN\, 37219
ATTACH;FMTTYPE=image/png:https://queenofprefab.com/wp-content/uploads/2023/03/Untitled-1200-×-630-px-1.png
ORGANIZER;CN="ClarkDietrich":MAILTO:info@clarkdietrich.com
END:VEVENT
END:VCALENDAR