BEGIN:VCALENDAR
VERSION:2.0
PRODID:-//Queen of Prefab - ECPv6.15.16//NONSGML v1.0//EN
CALSCALE:GREGORIAN
METHOD:PUBLISH
X-WR-CALNAME:Queen of Prefab
X-ORIGINAL-URL:https://queenofprefab.com
X-WR-CALDESC:Events for Queen of Prefab
REFRESH-INTERVAL;VALUE=DURATION:PT1H
X-Robots-Tag:noindex
X-PUBLISHED-TTL:PT1H
BEGIN:VTIMEZONE
TZID:America/Phoenix
BEGIN:STANDARD
TZOFFSETFROM:-0700
TZOFFSETTO:-0700
TZNAME:MST
DTSTART:20220101T000000
END:STANDARD
END:VTIMEZONE
BEGIN:VEVENT
DTSTART;TZID=America/Phoenix:20230316T160000
DTEND;TZID=America/Phoenix:20230319T170000
DTSTAMP:20260421T103252
CREATED:20230322T155341Z
LAST-MODIFIED:20230322T155341Z
UID:10000021-1678982400-1679245200@queenofprefab.com
SUMMARY:Bridging the Gap Podcast at Advancing Prefabrication 2023
DESCRIPTION:We interviewed a dozen industry leaders Advancing Prefab 2023 about the most important and pressing themes in the industry today. You’ll hear about productization\, data\, communication and much more. We’re starting off this special series of interviews with the Queen of Prefab herself\, Amy Marks. \n\n\nTODD TAKES\n\n\n\n\n1. Challenge yourself on what you can do to make the expected experience of construction better. How can we reach the desired-end state of productization and a custom experience at the same time? \n2. Amy makes a great point with digital waste directly leading and contributing to physical waste. If we care about eliminating the vast amount of waste on a jobsite\, then we need to start with how we can clean up our digital workflows first. \n3. Get creative when reaching out to new audiences for recruitment into the industry. I love Amy’s passion for women rugby players coming into the construction industry. It provides a wonderful example of what we should be doing to partner with people that would make an excellent addition to this great industry. \n\n\n\n\n                \n                        \n                            Request a Meeting with Amy During this Event\n                             \n                        \n                        LinkedInThis field is for validation purposes and should be left unchanged.Name\n                            \n                            \n                                                    \n                                                    First\n                                                \n                            \n                            \n                                                    \n                                                    Last\n                                                \n                            \n                        Email\n                            \n                        PhoneCompanyBy submitting this form you agree to our privacy policy. We treat your data with the utmost care and do not disclose your details to third parties.
URL:https://queenofprefab.com/event/bridging-gap-podcast-advancing-prefabrication-2023/
LOCATION:Sheraton Phoenix Downtown\, 340 N 3rd St\, Phoenix\, AZ\, 85004\, United States
ATTACH;FMTTYPE=image/png:https://queenofprefab.com/wp-content/uploads/2023/03/Untitled-design-5-1.png
END:VEVENT
BEGIN:VEVENT
DTSTART;TZID=America/Phoenix:20230314T080000
DTEND;TZID=America/Phoenix:20230317T170000
DTSTAMP:20260421T103252
CREATED:20230222T010427Z
LAST-MODIFIED:20230311T152642Z
UID:10000001-1678780800-1679072400@queenofprefab.com
SUMMARY:Advancing Prefabrication 2023 Phoenix
DESCRIPTION:Advancing Prefabrication is North America’s premier networking and thought leadership conference dedicated to revolutionizing prefabrication\, modular and industrialized manufacturing approaches across the AEC supply chain. Join over 1200 of the industry’s leading prefabricators\, contractors\, clients and design partners moving the needle and discover how you can improve your business\, leveraging cutting-edge industrialized strategies and techniques to build faster\, more safely\, and to a higher quality across all projects. \n\n                \n                        \n                            Request a Meeting with Amy During this Event\n                             \n                        \n                        CommentsThis field is for validation purposes and should be left unchanged.Name\n                            \n                            \n                                                    \n                                                    First\n                                                \n                            \n                            \n                                                    \n                                                    Last\n                                                \n                            \n                        Email\n                            \n                        PhoneCompanyBy submitting this form you agree to our privacy policy. We treat your data with the utmost care and do not disclose your details to third parties.
URL:https://queenofprefab.com/event/advancing-prefabrication-2023/
LOCATION:Sheraton Phoenix Downtown\, 340 N 3rd St\, Phoenix\, AZ\, 85004\, United States
ATTACH;FMTTYPE=image/png:https://queenofprefab.com/wp-content/uploads/2023/02/2023.02_QOP_Linkedin3_WebEdit.png
END:VEVENT
END:VCALENDAR