BEGIN:VCALENDAR
VERSION:2.0
PRODID:-//Queen of Prefab - ECPv6.15.16//NONSGML v1.0//EN
CALSCALE:GREGORIAN
METHOD:PUBLISH
X-ORIGINAL-URL:https://queenofprefab.com
X-WR-CALDESC:Events for Queen of Prefab
REFRESH-INTERVAL;VALUE=DURATION:PT1H
X-Robots-Tag:noindex
X-PUBLISHED-TTL:PT1H
BEGIN:VTIMEZONE
TZID:America/Denver
BEGIN:DAYLIGHT
TZOFFSETFROM:-0700
TZOFFSETTO:-0600
TZNAME:MDT
DTSTART:20210314T090000
END:DAYLIGHT
BEGIN:STANDARD
TZOFFSETFROM:-0600
TZOFFSETTO:-0700
TZNAME:MST
DTSTART:20211107T080000
END:STANDARD
BEGIN:DAYLIGHT
TZOFFSETFROM:-0700
TZOFFSETTO:-0600
TZNAME:MDT
DTSTART:20220313T090000
END:DAYLIGHT
BEGIN:STANDARD
TZOFFSETFROM:-0600
TZOFFSETTO:-0700
TZNAME:MST
DTSTART:20221106T080000
END:STANDARD
BEGIN:DAYLIGHT
TZOFFSETFROM:-0700
TZOFFSETTO:-0600
TZNAME:MDT
DTSTART:20230312T090000
END:DAYLIGHT
BEGIN:STANDARD
TZOFFSETFROM:-0600
TZOFFSETTO:-0700
TZNAME:MST
DTSTART:20231105T080000
END:STANDARD
END:VTIMEZONE
BEGIN:VEVENT
DTSTART;TZID=America/Denver:20220804T170000
DTEND;TZID=America/Denver:20220804T190000
DTSTAMP:20260421T105656
CREATED:20230615T150538Z
LAST-MODIFIED:20230615T150538Z
UID:10000038-1659632400-1659639600@queenofprefab.com
SUMMARY:TeamD3 Industrialized Construction Event
DESCRIPTION:TeamD3 Industrialized Construction Event \n\nLearn more about Industrialized Construction with complimentary drinks and food featuring Autodesk speakers Amy Marks and Ryan McMahon \n\n\nEnjoy complimentary drinks and appetizers as Autodesk experts Amy Marks and Ryan McMahon present how you can leverage Industrialized Construction in your day-to-day construction processes and projects. Industrialized Construction is changing the industry by applying a manufacturing mindset to construction processes to increase productivity and trim unnecessary waste from construction projects. \n\n\nThe event will be held in the Mercantile Room at Wynkoop Brewing Company in Denver\, CO\, from 5 – 7 PM MDT. You will also have the opportunity to connect and network with other construction experts from MG. \n\n\n\n\n\n\n\n                \n                        \n                            Request a Meeting with Amy During this Event\n                             \n                        \n                        PhoneThis field is for validation purposes and should be left unchanged.Name\n                            \n                            \n                                                    \n                                                    First\n                                                \n                            \n                            \n                                                    \n                                                    Last\n                                                \n                            \n                        Email\n                            \n                        PhoneCompanyBy submitting this form you agree to our privacy policy. We treat your data with the utmost care and do not disclose your details to third parties.
URL:https://queenofprefab.com/event/teamd3-industrialized-construction-event/
LOCATION:Wynkoop Brewing Company\, 1634 18th Street\, Denver\, CO\, 80202
ATTACH;FMTTYPE=image/png:https://queenofprefab.com/wp-content/uploads/2023/06/Untitled-design-4.png
ORGANIZER;CN="Team D3":MAILTO:info@teamd3.com
END:VEVENT
BEGIN:VEVENT
DTSTART;TZID=America/Denver:20220804T170000
DTEND;TZID=America/Denver:20220804T190000
DTSTAMP:20260421T105656
CREATED:20230321T173358Z
LAST-MODIFIED:20230321T173358Z
UID:10000018-1659632400-1659639600@queenofprefab.com
SUMMARY:Industrialized Construction Event - MG
DESCRIPTION:Enjoy complimentary drinks and appetizers as Autodesk experts Amy Marks – Queen of Prefab and Ryan McMahon present how you can leverage Industrialized Construction in your day-to-day construction processes and projects. Industrialized Construction is changing the industry by applying a manufacturing mindset to construction processes to increase productivity and trim unnecessary waste from construction projects. \nThe event will be held in the Mercantile Room at Wynkoop Brewing Company in Denver\, CO\, from 5 – 7 PM MDT. You will also have the opportunity to connect and network with other construction experts from MG. \n\n                \n                        \n                            Request a Meeting with Amy During this Event\n                             \n                        \n                        CompanyThis field is for validation purposes and should be left unchanged.Name\n                            \n                            \n                                                    \n                                                    First\n                                                \n                            \n                            \n                                                    \n                                                    Last\n                                                \n                            \n                        Email\n                            \n                        PhoneCompanyBy submitting this form you agree to our privacy policy. We treat your data with the utmost care and do not disclose your details to third parties.
URL:https://queenofprefab.com/event/team-d3-industrialized-construction-event/
LOCATION:Wynkoop Brewing Company\, 1634 18th Street\, Denver\, CO\, 80202
ATTACH;FMTTYPE=image/png:https://queenofprefab.com/wp-content/uploads/2023/03/Untitled-design-2-1.png
END:VEVENT
END:VCALENDAR